BEGIN:VCALENDAR
VERSION:2.0
PRODID:spatie/icalendar-generator
DESCRIPTION:Events from 
X-WR-CALDESC:Events from 
REFRESH-INTERVAL;VALUE=DURATION:PT1440M
X-PUBLISHED-TTL:PT1440M
BEGIN:VTIMEZONE
TZID:Etc/GMT+0
BEGIN:STANDARD
DTSTART:20250529T120000Z
TZOFFSETFROM:+0000
TZOFFSETTO:+0000
END:STANDARD
END:VTIMEZONE
BEGIN:VTIMEZONE
TZID:UTC
BEGIN:STANDARD
DTSTART:20250726T104025Z
TZOFFSETFROM:+0000
TZOFFSETTO:+0000
END:STANDARD
END:VTIMEZONE
BEGIN:VEVENT
UID:515-494
DTSTAMP:20260422T104025Z
SUMMARY:Concentración silenciosa por varias víctimas de violencia de gén
 ero
LOCATION:Plaza de la Constitución
ORGANIZER;CN=ppayuntamientodezamora:MAILTO:grupomunicipal@ppzamora.com
DTSTART;TZID=Etc/GMT+0:20260223T120000
DTEND;TZID=Etc/GMT+0:20260223T120500
X-ALT-DESC;FMTTYPE=TEXT/HTML:
CATEGORIES:General
URL;VALUE=URI:https://ppayuntamientozamora.es/my-calendar/?mc_id=515&#038;v
 cal=515
METHOD:PUBLISH
END:VEVENT
END:VCALENDAR