BEGIN:VCALENDAR
VERSION:2.0
PRODID:spatie/icalendar-generator
DESCRIPTION:Events from 
X-WR-CALDESC:Events from 
REFRESH-INTERVAL;VALUE=DURATION:PT1440M
X-PUBLISHED-TTL:PT1440M
BEGIN:VTIMEZONE
TZID:Etc/GMT+0
BEGIN:STANDARD
DTSTART:20250529T110000Z
TZOFFSETFROM:+0000
TZOFFSETTO:+0000
END:STANDARD
END:VTIMEZONE
BEGIN:VTIMEZONE
TZID:UTC
BEGIN:STANDARD
DTSTART:20250726T102336Z
TZOFFSETFROM:+0000
TZOFFSETTO:+0000
END:STANDARD
END:VTIMEZONE
BEGIN:VEVENT
UID:512-491
DTSTAMP:20260422T102336Z
SUMMARY:Comisión de Economía\, Contratación y Personal
LOCATION:Ayuntamiento de Zamora  Plaza Mayor
ORGANIZER;CN=ppayuntamientodezamora:MAILTO:grupomunicipal@ppzamora.com
DTSTART;TZID=Etc/GMT+0:20260223T110000
DTEND;TZID=Etc/GMT+0:20260223T113000
X-ALT-DESC;FMTTYPE=TEXT/HTML:
CATEGORIES:General
URL;VALUE=URI:https://ppayuntamientozamora.es/my-calendar/?mc_id=512&#038;v
 cal=512
METHOD:PUBLISH
END:VEVENT
END:VCALENDAR