BEGIN:VCALENDAR
VERSION:2.0
PRODID:spatie/icalendar-generator
DESCRIPTION:Events from 
X-WR-CALDESC:Events from 
REFRESH-INTERVAL;VALUE=DURATION:PT1440M
X-PUBLISHED-TTL:PT1440M
BEGIN:VTIMEZONE
TZID:Etc/GMT+0
BEGIN:STANDARD
DTSTART:20250530T190000Z
TZOFFSETFROM:+0000
TZOFFSETTO:+0000
END:STANDARD
END:VTIMEZONE
BEGIN:VTIMEZONE
TZID:UTC
BEGIN:STANDARD
DTSTART:20250726T101802Z
TZOFFSETFROM:+0000
TZOFFSETTO:+0000
END:STANDARD
END:VTIMEZONE
BEGIN:VEVENT
UID:508-487
DTSTAMP:20260422T101802Z
SUMMARY:Presentación del libro “cuando todo parecía perdido”
LOCATION:Biblioteca Pública del Estado
ORGANIZER;CN=ppayuntamientodezamora:MAILTO:grupomunicipal@ppzamora.com
DTSTART;TZID=Etc/GMT+0:20260224T190000
DTEND;TZID=Etc/GMT+0:20260224T200000
X-ALT-DESC;FMTTYPE=TEXT/HTML:
CATEGORIES:General
URL;VALUE=URI:https://ppayuntamientozamora.es/my-calendar/?mc_id=508&#038;v
 cal=508
METHOD:PUBLISH
END:VEVENT
END:VCALENDAR