BEGIN:VCALENDAR
VERSION:2.0
PRODID:spatie/icalendar-generator
DESCRIPTION:Events from 
X-WR-CALDESC:Events from 
REFRESH-INTERVAL;VALUE=DURATION:PT1440M
X-PUBLISHED-TTL:PT1440M
BEGIN:VTIMEZONE
TZID:Etc/GMT+0
BEGIN:STANDARD
DTSTART:20250603T140000Z
TZOFFSETFROM:+0000
TZOFFSETTO:+0000
END:STANDARD
END:VTIMEZONE
BEGIN:VTIMEZONE
TZID:UTC
BEGIN:STANDARD
DTSTART:20250726T103739Z
TZOFFSETFROM:+0000
TZOFFSETTO:+0000
END:STANDARD
END:VTIMEZONE
BEGIN:VEVENT
UID:507-486
DTSTAMP:20260422T103739Z
SUMMARY:Cocido solidario Corriendo con el corazón por Hugo
LOCATION:Hotel NH Palacio del Duero
ORGANIZER;CN=ppayuntamientodezamora:MAILTO:grupomunicipal@ppzamora.com
DTSTART;TZID=Etc/GMT+0:20260228T140000
DTEND;TZID=Etc/GMT+0:20260228T170000
X-ALT-DESC;FMTTYPE=TEXT/HTML:
CATEGORIES:General
URL;VALUE=URI:https://ppayuntamientozamora.es/my-calendar/?mc_id=507&#038;v
 cal=507
METHOD:PUBLISH
END:VEVENT
END:VCALENDAR