BEGIN:VCALENDAR
VERSION:2.0
PRODID:spatie/icalendar-generator
DESCRIPTION:Events from 
X-WR-CALDESC:Events from 
REFRESH-INTERVAL;VALUE=DURATION:PT1440M
X-PUBLISHED-TTL:PT1440M
BEGIN:VTIMEZONE
TZID:Etc/GMT+0
BEGIN:STANDARD
DTSTART:20250519T200000Z
TZOFFSETFROM:+0000
TZOFFSETTO:+0000
END:STANDARD
END:VTIMEZONE
BEGIN:VTIMEZONE
TZID:UTC
BEGIN:STANDARD
DTSTART:20250726T085043Z
TZOFFSETFROM:+0000
TZOFFSETTO:+0000
END:STANDARD
END:VTIMEZONE
BEGIN:VEVENT
UID:500-479
DTSTAMP:20260422T085043Z
SUMMARY:Concierto por la EsperanZa
LOCATION:Teatro Ramos Carrión
ORGANIZER;CN=ppayuntamientodezamora:MAILTO:grupomunicipal@ppzamora.com
DTSTART;TZID=Etc/GMT+0:20260213T200000
DTEND;TZID=Etc/GMT+0:20260213T213000
X-ALT-DESC;FMTTYPE=TEXT/HTML:
CATEGORIES:General
URL;VALUE=URI:https://ppayuntamientozamora.es/my-calendar/?mc_id=500&#038;v
 cal=500
METHOD:PUBLISH
END:VEVENT
END:VCALENDAR